BEGIN:VCALENDAR
VERSION:2.0
PRODID:spatie/icalendar-generator
DESCRIPTION:Events from Pine Panthers
X-WR-CALDESC:Events from Pine Panthers
REFRESH-INTERVAL;VALUE=DURATION:PT1440M
X-PUBLISHED-TTL:PT1440M
BEGIN:VTIMEZONE
TZID:Etc/GMT+0
BEGIN:STANDARD
DTSTART:20250513T080000Z
TZOFFSETFROM:+0000
TZOFFSETTO:+0000
END:STANDARD
END:VTIMEZONE
BEGIN:VTIMEZONE
TZID:UTC
BEGIN:STANDARD
DTSTART:20250728T195321Z
TZOFFSETFROM:+0000
TZOFFSETTO:+0000
END:STANDARD
END:VTIMEZONE
BEGIN:VEVENT
UID:49-48
DTSTAMP:20260424T195321Z
SUMMARY:Sign on Day @ PRNA
LOCATION:
ORGANIZER;CN=admin-pinepant:MAILTO:matthew@brisbanehosting.com.au
DTSTART;TZID=Etc/GMT+0:20260207T080000
DTEND;TZID=Etc/GMT+0:20260207T103000
X-ALT-DESC;FMTTYPE=TEXT/HTML:
CATEGORIES:General
URL;VALUE=URI:https://pinepanthers.com/mc-events/sign-on-day-prna/?mc_id=49
END:VEVENT
END:VCALENDAR