BEGIN:VCALENDAR
VERSION:2.0
PRODID:spatie/icalendar-generator
DESCRIPTION:Events from Pine Panthers
X-WR-CALDESC:Events from Pine Panthers
REFRESH-INTERVAL;VALUE=DURATION:PT1440M
X-PUBLISHED-TTL:PT1440M
BEGIN:VTIMEZONE
TZID:Etc/GMT+0
BEGIN:STANDARD
DTSTART:20250617T000000Z
TZOFFSETFROM:+0000
TZOFFSETTO:+0000
END:STANDARD
END:VTIMEZONE
BEGIN:VTIMEZONE
TZID:UTC
BEGIN:STANDARD
DTSTART:20250728T174814Z
TZOFFSETFROM:+0000
TZOFFSETTO:+0000
END:STANDARD
END:VTIMEZONE
BEGIN:VEVENT
UID:51-50
DTSTAMP:20260424T174814Z
SUMMARY:Round 1 - Saturday
LOCATION:
ORGANIZER;CN=admin-pinepant:MAILTO:matthew@brisbanehosting.com.au
DTSTART;TZID=Etc/GMT+0;VALUE=DATE:20260314
DTEND;TZID=Etc/GMT+0;VALUE=DATE:20260315
X-ALT-DESC;FMTTYPE=TEXT/HTML:
CATEGORIES:General
URL;VALUE=URI:https://pinepanthers.com/mc-events/round-1-saturday/?mc_id=51
END:VEVENT
END:VCALENDAR