BEGIN:VCALENDAR
VERSION:2.0
PRODID:spatie/icalendar-generator
DESCRIPTION:Events from Pine Panthers
X-WR-CALDESC:Events from Pine Panthers
REFRESH-INTERVAL;VALUE=DURATION:PT1440M
X-PUBLISHED-TTL:PT1440M
BEGIN:VTIMEZONE
TZID:Etc/GMT+0
BEGIN:STANDARD
DTSTART:20250624T000000Z
TZOFFSETFROM:+0000
TZOFFSETTO:+0000
END:STANDARD
END:VTIMEZONE
BEGIN:VTIMEZONE
TZID:UTC
BEGIN:STANDARD
DTSTART:20250728T174815Z
TZOFFSETFROM:+0000
TZOFFSETTO:+0000
END:STANDARD
END:VTIMEZONE
BEGIN:VEVENT
UID:57-54
DTSTAMP:20260424T174815Z
SUMMARY:Round 2 - Saturdays
LOCATION:
ORGANIZER;CN=admin-pinepant:MAILTO:matthew@brisbanehosting.com.au
DTSTART;TZID=Etc/GMT+0:20260321T000000
DTEND;TZID=Etc/GMT+0:20260321T010000
X-ALT-DESC;FMTTYPE=TEXT/HTML:
CATEGORIES:General
URL;VALUE=URI:https://pinepanthers.com/mc-events/round-2-saturdays/?mc_id=5
 7
END:VEVENT
END:VCALENDAR