BEGIN:VCALENDAR
VERSION:2.0
PRODID:spatie/icalendar-generator
DESCRIPTION:Events from Pine Panthers
X-WR-CALDESC:Events from Pine Panthers
REFRESH-INTERVAL;VALUE=DURATION:PT1440M
X-PUBLISHED-TTL:PT1440M
BEGIN:VTIMEZONE
TZID:Etc/GMT+0
BEGIN:STANDARD
DTSTART:20240829T000000Z
TZOFFSETFROM:+0000
TZOFFSETTO:+0000
END:STANDARD
END:VTIMEZONE
BEGIN:VTIMEZONE
TZID:UTC
BEGIN:STANDARD
DTSTART:20250729T112805Z
TZOFFSETFROM:+0000
TZOFFSETTO:+0000
END:STANDARD
END:VTIMEZONE
BEGIN:VEVENT
UID:19-18
DTSTAMP:20260425T112805Z
SUMMARY:Monday Night Rd 8
LOCATION:
ORGANIZER;CN=admin-pinepant:MAILTO:matthew@brisbanehosting.com.au
DTSTART;TZID=Etc/GMT+0:20250526T000000
DTEND;TZID=Etc/GMT+0:20250526T010000
X-ALT-DESC;FMTTYPE=TEXT/HTML:
CATEGORIES:General
URL;VALUE=URI:https://pinepanthers.com/mc-events/monday-night-rd-8/?mc_id=1
 9
END:VEVENT
END:VCALENDAR