BEGIN:VCALENDAR
VERSION:2.0
PRODID:spatie/icalendar-generator
DESCRIPTION:Events from Pine Panthers
X-WR-CALDESC:Events from Pine Panthers
REFRESH-INTERVAL;VALUE=DURATION:PT1440M
X-PUBLISHED-TTL:PT1440M
BEGIN:VTIMEZONE
TZID:Etc/GMT+0
BEGIN:STANDARD
DTSTART:20240905T000000Z
TZOFFSETFROM:+0000
TZOFFSETTO:+0000
END:STANDARD
END:VTIMEZONE
BEGIN:VTIMEZONE
TZID:UTC
BEGIN:STANDARD
DTSTART:20250729T112805Z
TZOFFSETFROM:+0000
TZOFFSETTO:+0000
END:STANDARD
END:VTIMEZONE
BEGIN:VEVENT
UID:20-19
DTSTAMP:20260425T112805Z
SUMMARY:Monday Night Rd 9
LOCATION:
ORGANIZER;CN=admin-pinepant:MAILTO:matthew@brisbanehosting.com.au
DTSTART;TZID=Etc/GMT+0:20250602T000000
DTEND;TZID=Etc/GMT+0:20250602T010000
X-ALT-DESC;FMTTYPE=TEXT/HTML:
CATEGORIES:General
URL;VALUE=URI:https://pinepanthers.com/mc-events/monday-night-rd-9/?mc_id=2
 0
END:VEVENT
END:VCALENDAR